BEGIN:VCALENDAR
VERSION:2.0
PRODID:-//Ocean City MD Economy BEST Motels | Sahara Motel - ECPv5.10.1//NONSGML v1.0//EN
CALSCALE:GREGORIAN
METHOD:PUBLISH
X-WR-CALNAME:Ocean City MD Economy BEST Motels | Sahara Motel
X-ORIGINAL-URL:https://saharamotel.com
X-WR-CALDESC:Events for Ocean City MD Economy BEST Motels | Sahara Motel
BEGIN:VTIMEZONE
TZID:America/New_York
BEGIN:DAYLIGHT
TZOFFSETFROM:-0500
TZOFFSETTO:-0400
TZNAME:EDT
DTSTART:20190310T070000
END:DAYLIGHT
BEGIN:STANDARD
TZOFFSETFROM:-0400
TZOFFSETTO:-0500
TZNAME:EST
DTSTART:20191103T060000
END:STANDARD
END:VTIMEZONE
BEGIN:VEVENT
DTSTART;TZID=America/New_York:20190615T090000
DTEND;TZID=America/New_York:20190615T160000
DTSTAMP:20260421T220715
CREATED:20190311T140008Z
LAST-MODIFIED:20190311T140008Z
UID:28604-1560589200-1560614400@saharamotel.com
SUMMARY:Ocean City Air Show with the U.S. Navy Blue Angels
DESCRIPTION:Celebrating it’s 12th Anniversary\, the OC Air Show returns to Ocean City in 2019 headlined by the U.S. Navy Blue Angels!   A Blue Angels performance exhibits the flying skills that all naval aviators possess. The team’s C-130\, also known as Fat Albert\, begins each demonstration.  Fat Albert’s 10 minutes performance  showcases the aircraft’s maximum-performance capabilities.  Following Fat Albert’s performance the team’s six F/A-18 Hornet’s soar overhead.  The Blue Angel delta formation enters from behind the crowd and announce themselves with the “sound of freedom!”  The Blue Angel performance showcases the graceful aerobatic maneuvers of the four-jet diamond formation together with the fast-paced\, and high-performance maneuvers of two Solo pilots.  Finally\, the conclusion of the performance brings together all six F-18s  when the solos join the diamond and perform in the six-jet Delta formation.  The wing tips of the Blue Angel jets are less than 3 feet apart in the diamond and delta formations.\n \n \nInteractive simulators\, exhibits and displays will be located on the streets of the boardwalk near Show Center and Inlet Parking Lot.\n \nEvent is free to view throughout town and at your favorite restaurants. Or\, purchase tickets for show center beach at ocairshow.com.\n \n \n 
URL:https://saharamotel.com/event/ocean-city-air-show-with-the-u-s-navy-blue-angels/
LOCATION:On the Beach & Boardwalk; Show Center is 16th St.\, 1600 Atlantic Avenue\, Ocean City\, MD\, 21842\, United States
END:VEVENT
END:VCALENDAR