BEGIN:VCALENDAR
VERSION:2.0
PRODID:-//Ocean City MD Economy BEST Motels | Sahara Motel - ECPv5.10.1//NONSGML v1.0//EN
CALSCALE:GREGORIAN
METHOD:PUBLISH
X-WR-CALNAME:Ocean City MD Economy BEST Motels | Sahara Motel
X-ORIGINAL-URL:https://saharamotel.com
X-WR-CALDESC:Events for Ocean City MD Economy BEST Motels | Sahara Motel
BEGIN:VTIMEZONE
TZID:America/New_York
BEGIN:DAYLIGHT
TZOFFSETFROM:-0500
TZOFFSETTO:-0400
TZNAME:EDT
DTSTART:20190310T070000
END:DAYLIGHT
BEGIN:STANDARD
TZOFFSETFROM:-0400
TZOFFSETTO:-0500
TZNAME:EST
DTSTART:20191103T060000
END:STANDARD
END:VTIMEZONE
BEGIN:VEVENT
DTSTART;TZID=America/New_York:20190602T200000
DTEND;TZID=America/New_York:20190602T200000
DTSTAMP:20260421T233223
CREATED:20190418T140709Z
LAST-MODIFIED:20190418T140709Z
UID:34571-1559505600-1559505600@saharamotel.com
SUMMARY:Identity Crisis Band
DESCRIPTION:Identity Crisis\, formed in 2000\, progressed from a three piece accoustic trio\, into a five piece electric/acoustic\, multi-genre dance band aimed toward crowd entertainment with the emphasis on fun!  \nAs the name implies\, our varied musical influences and backgrounds blend together to create a unique sound and song list\, with a wide variety to keep everyone happy. \nWe cover Classic Rock\, Blues\, Southern Rock\, Country\, Modern Rock\, as well as Funk. Hopefully a little something for everyone!!
URL:https://saharamotel.com/event/identity-crisis-band-9/
LOCATION:Beach Barrels\, 13207 Coastal Hwy\, Ocean City\, MD\, 21842\, United States
END:VEVENT
END:VCALENDAR