BEGIN:VCALENDAR
VERSION:2.0
PRODID:-//Ocean City MD Economy BEST Motels | Sahara Motel - ECPv5.10.1//NONSGML v1.0//EN
CALSCALE:GREGORIAN
METHOD:PUBLISH
X-WR-CALNAME:Ocean City MD Economy BEST Motels | Sahara Motel
X-ORIGINAL-URL:https://saharamotel.com
X-WR-CALDESC:Events for Ocean City MD Economy BEST Motels | Sahara Motel
BEGIN:VTIMEZONE
TZID:America/New_York
BEGIN:DAYLIGHT
TZOFFSETFROM:-0500
TZOFFSETTO:-0400
TZNAME:EDT
DTSTART:20190310T070000
END:DAYLIGHT
BEGIN:STANDARD
TZOFFSETFROM:-0400
TZOFFSETTO:-0500
TZNAME:EST
DTSTART:20191103T060000
END:STANDARD
END:VTIMEZONE
BEGIN:VEVENT
DTSTART;TZID=America/New_York:20190616T183000
DTEND;TZID=America/New_York:20190616T190000
DTSTAMP:20260421T220639
CREATED:20190414T020350Z
LAST-MODIFIED:20190414T020350Z
UID:33851-1560709800-1560711600@saharamotel.com
SUMMARY:Free Live Ice Show | Featuring The Next Ice Age at Carousel Oceanfront Hotel
DESCRIPTION:Don’t miss our nightly Live Ice Shows at the Carousel Oceanfront Hotel’s Ice Rink featuring The Next Ice Age Dance Company beginning at 6:30pm (please note there will be no Friday performances).  \n \nFor the best seats in the house\, make reservations for rink-side dining by calling 410-524-1000 ext 7195
URL:https://saharamotel.com/event/free-live-ice-show-featuring-the-next-ice-age-at-carousel-oceanfront-hotel-5/
LOCATION:Carousel Skating Rink\, 11700 Coastal Hwy\, Ocean City\, MD\, 21842\, United States
END:VEVENT
END:VCALENDAR