BEGIN:VCALENDAR
VERSION:2.0
PRODID:-//Ocean City MD Economy BEST Motels | Sahara Motel - ECPv5.10.1//NONSGML v1.0//EN
CALSCALE:GREGORIAN
METHOD:PUBLISH
X-WR-CALNAME:Ocean City MD Economy BEST Motels | Sahara Motel
X-ORIGINAL-URL:https://saharamotel.com
X-WR-CALDESC:Events for Ocean City MD Economy BEST Motels | Sahara Motel
BEGIN:VTIMEZONE
TZID:America/New_York
BEGIN:DAYLIGHT
TZOFFSETFROM:-0500
TZOFFSETTO:-0400
TZNAME:EDT
DTSTART:20190310T070000
END:DAYLIGHT
BEGIN:STANDARD
TZOFFSETFROM:-0400
TZOFFSETTO:-0500
TZNAME:EST
DTSTART:20191103T060000
END:STANDARD
END:VTIMEZONE
BEGIN:VEVENT
DTSTART;TZID=America/New_York:20190601T100000
DTEND;TZID=America/New_York:20190601T160000
DTSTAMP:20260422T003438
CREATED:20190407T020015Z
LAST-MODIFIED:20190407T020015Z
UID:32875-1559383200-1559404800@saharamotel.com
SUMMARY:Free Admission
DESCRIPTION: The Julia A. Purnell Museum\, originally known as the Julia Lecompte\, was born in Snow Hill\, Maryland in 1843. She was famous for her skills in embroidery. In 1942\, her son helped her open the museum that houses her work. 
URL:https://saharamotel.com/event/free-admission-3/
END:VEVENT
END:VCALENDAR