BEGIN:VCALENDAR
VERSION:2.0
PRODID:-//Ocean City MD Economy BEST Motels | Sahara Motel - ECPv5.10.1//NONSGML v1.0//EN
CALSCALE:GREGORIAN
METHOD:PUBLISH
X-WR-CALNAME:Ocean City MD Economy BEST Motels | Sahara Motel
X-ORIGINAL-URL:https://saharamotel.com
X-WR-CALDESC:Events for Ocean City MD Economy BEST Motels | Sahara Motel
BEGIN:VTIMEZONE
TZID:America/New_York
BEGIN:DAYLIGHT
TZOFFSETFROM:-0500
TZOFFSETTO:-0400
TZNAME:EDT
DTSTART:20190310T070000
END:DAYLIGHT
BEGIN:STANDARD
TZOFFSETFROM:-0400
TZOFFSETTO:-0500
TZNAME:EST
DTSTART:20191103T060000
END:STANDARD
END:VTIMEZONE
BEGIN:VEVENT
DTSTART;TZID=America/New_York:20190613T180000
DTEND;TZID=America/New_York:20190613T220000
DTSTAMP:20260422T003943
CREATED:20190423T141338Z
LAST-MODIFIED:20190423T141338Z
UID:35351-1560448800-1560463200@saharamotel.com
SUMMARY:Dave Hawkins Band
DESCRIPTION:Dave Hawkins\, an accomplished musician\, has been playing music for what seems to be his entire life. Music is his passion and he is passionate about how it’s perceived throughout his audience. He plays many guitars\, harmonica\, and fiddle and when you hear him you will think there is a whole band\, not just one person. This is accomplished by what is known as looping.  There is never a “backing track” to play along with\, which is used by some other players out there. His vocals and music will reach the deepest part of you while it sets your senses alive. He plays sounds from the current popular\, to classic rock\, to Dave Matthews\, to his own original compositions as he touches on just about any genre you may desire.
URL:https://saharamotel.com/event/dave-hawkins-band-6/
END:VEVENT
END:VCALENDAR