BEGIN:VCALENDAR
VERSION:2.0
PRODID:-//Ocean City MD Economy BEST Motels | Sahara Motel - ECPv5.10.1//NONSGML v1.0//EN
CALSCALE:GREGORIAN
METHOD:PUBLISH
X-WR-CALNAME:Ocean City MD Economy BEST Motels | Sahara Motel
X-ORIGINAL-URL:https://saharamotel.com
X-WR-CALDESC:Events for Ocean City MD Economy BEST Motels | Sahara Motel
BEGIN:VTIMEZONE
TZID:America/New_York
BEGIN:DAYLIGHT
TZOFFSETFROM:-0500
TZOFFSETTO:-0400
TZNAME:EDT
DTSTART:20190310T070000
END:DAYLIGHT
BEGIN:STANDARD
TZOFFSETFROM:-0400
TZOFFSETTO:-0500
TZNAME:EST
DTSTART:20191103T060000
END:STANDARD
END:VTIMEZONE
BEGIN:VEVENT
DTSTART;TZID=America/New_York:20190603T160000
DTEND;TZID=America/New_York:20190603T200000
DTSTAMP:20260421T235321
CREATED:20190325T020344Z
LAST-MODIFIED:20190325T020344Z
UID:31001-1559577600-1559592000@saharamotel.com
SUMMARY:Bob Wilkinson and Joe Smooth
DESCRIPTION:Bob Wilkinson and Joe Smooth team up for a great musical endeavor at Coconuts Beach Bar and Grill.  Bob and Joe will be playing live on the outdoor patio while you enjoy the beachfront restaurant\, great specials and time with your family and friends. 
URL:https://saharamotel.com/event/bob-wilkinson-and-joe-smooth-7/
LOCATION:Coconuts Beach Bar & Grill\, 3701 Atlantic Ave\, Ocean City\, MD\, 21842\, United States
END:VEVENT
END:VCALENDAR