BEGIN:VCALENDAR
VERSION:2.0
PRODID:-//Ocean City MD Economy BEST Motels | Sahara Motel - ECPv5.10.1//NONSGML v1.0//EN
CALSCALE:GREGORIAN
METHOD:PUBLISH
X-WR-CALNAME:Ocean City MD Economy BEST Motels | Sahara Motel
X-ORIGINAL-URL:https://saharamotel.com
X-WR-CALDESC:Events for Ocean City MD Economy BEST Motels | Sahara Motel
BEGIN:VTIMEZONE
TZID:America/New_York
BEGIN:DAYLIGHT
TZOFFSETFROM:-0500
TZOFFSETTO:-0400
TZNAME:EDT
DTSTART:20190310T070000
END:DAYLIGHT
BEGIN:STANDARD
TZOFFSETFROM:-0400
TZOFFSETTO:-0500
TZNAME:EST
DTSTART:20191103T060000
END:STANDARD
END:VTIMEZONE
BEGIN:VEVENT
DTSTART;TZID=America/New_York:20190609T090000
DTEND;TZID=America/New_York:20190609T130000
DTSTAMP:20260421T232612
CREATED:20190419T140045Z
LAST-MODIFIED:20190419T140045Z
UID:34743-1560070800-1560085200@saharamotel.com
SUMMARY:Berlin Farmers Market
DESCRIPTION:The Berlin Farmers Market starts on May 5 and goes until the 29th. Check out the new vendors. Check out some of the new vendors including Del Vecchio’s Bakery\, The Bay Mushrooms\, Johnson Bay Oyster Company\, Artisan’s Aromas\, homemade bbq sauce from Bratten Farms & more!
URL:https://saharamotel.com/event/berlin-farmers-market-6/
LOCATION:Berlin Farmers Market\, 14 S Main St\, Berlin\, MD 21811-1427\, Berlin\, MD\, 21811\, United States
END:VEVENT
END:VCALENDAR